BEGIN:VCALENDAR
VERSION:2.0
PRODID:-//Maison de l&#039;Enfance de Billère - ECPv6.15.20//NONSGML v1.0//EN
CALSCALE:GREGORIAN
METHOD:PUBLISH
X-WR-CALNAME:Maison de l&#039;Enfance de Billère
X-ORIGINAL-URL:http://maisonenfance64.fr
X-WR-CALDESC:Évènements pour Maison de l&#039;Enfance de Billère
REFRESH-INTERVAL;VALUE=DURATION:PT1H
X-Robots-Tag:noindex
X-PUBLISHED-TTL:PT1H
BEGIN:VTIMEZONE
TZID:Europe/Paris
BEGIN:DAYLIGHT
TZOFFSETFROM:+0100
TZOFFSETTO:+0200
TZNAME:CEST
DTSTART:20250330T010000
END:DAYLIGHT
BEGIN:STANDARD
TZOFFSETFROM:+0200
TZOFFSETTO:+0100
TZNAME:CET
DTSTART:20251026T010000
END:STANDARD
BEGIN:DAYLIGHT
TZOFFSETFROM:+0100
TZOFFSETTO:+0200
TZNAME:CEST
DTSTART:20260329T010000
END:DAYLIGHT
BEGIN:STANDARD
TZOFFSETFROM:+0200
TZOFFSETTO:+0100
TZNAME:CET
DTSTART:20261025T010000
END:STANDARD
BEGIN:DAYLIGHT
TZOFFSETFROM:+0100
TZOFFSETTO:+0200
TZNAME:CEST
DTSTART:20270328T010000
END:DAYLIGHT
BEGIN:STANDARD
TZOFFSETFROM:+0200
TZOFFSETTO:+0100
TZNAME:CET
DTSTART:20271031T010000
END:STANDARD
END:VTIMEZONE
BEGIN:VEVENT
DTSTART;TZID=Europe/Paris:20260113T183000
DTEND;TZID=Europe/Paris:20260113T193000
DTSTAMP:20260424T150344
CREATED:20260105T140259Z
LAST-MODIFIED:20260106T153951Z
UID:26927-1768329000-1768332600@maisonenfance64.fr
SUMMARY:Le Coin des Parents : un temps d’échange pour bien démarrer l’année 2026
DESCRIPTION:Le mardi 13 janvier\, la Maison de l’Enfance vous donne rendez-vous pour le Coin des Parents\, animé par Angélica\, coach parental. Ce premier atelier de l’année 2026 sera l’occasion de se retrouver dans un cadre bienveillant\, propice à l’écoute\, au partage et à la réflexion collective. \nCe temps d’échange débutera par une rétrospective des ateliers précédents : les thèmes abordés\, les outils partagés et les expériences vécues par les familles. Les parents pourront échanger sur ce qu’ils ont pu mettre en place à la maison\, ce qui a fonctionné\, mais aussi ce qui a parfois été plus difficile à appliquer au quotidien. \nCe rendez-vous sera également un moment privilégié pour donner la parole aux parents et recueillir leurs envies et leurs besoins. Ensemble\, nous réfléchirons aux thématiques à aborder lors des prochains ateliers\, afin que le Coin des Parents continue de répondre au mieux aux réalités et aux attentes de chacun. \nQue vous ayez participé aux précédents ateliers ou que ce soit votre première venue\, ce temps est ouvert à tous les parents désireux de partager\, apprendre et avancer ensemble.
URL:http://maisonenfance64.fr/events/coin-des-parents/
LOCATION:Maison de l’Enfance de Billère\, Maison de l'Enfance de Billère\, Billères\, 64140\, France
CATEGORIES:Animation,Coin papote
ATTACH;FMTTYPE=image/jpeg:http://maisonenfance64.fr/wp-content/uploads/2022/12/papote-maisonenfance64.jpg
ORGANIZER;CN="Virginie Cazenave":MAILTO:virginie.cazenave.mde@gmail.com
END:VEVENT
END:VCALENDAR