BEGIN:VCALENDAR
VERSION:2.0
PRODID:-//Maison de l&#039;Enfance de Billère - ECPv6.15.20//NONSGML v1.0//EN
CALSCALE:GREGORIAN
METHOD:PUBLISH
X-WR-CALNAME:Maison de l&#039;Enfance de Billère
X-ORIGINAL-URL:http://maisonenfance64.fr
X-WR-CALDESC:Évènements pour Maison de l&#039;Enfance de Billère
REFRESH-INTERVAL;VALUE=DURATION:PT1H
X-Robots-Tag:noindex
X-PUBLISHED-TTL:PT1H
BEGIN:VTIMEZONE
TZID:Europe/Paris
BEGIN:DAYLIGHT
TZOFFSETFROM:+0100
TZOFFSETTO:+0200
TZNAME:CEST
DTSTART:20240331T010000
END:DAYLIGHT
BEGIN:STANDARD
TZOFFSETFROM:+0200
TZOFFSETTO:+0100
TZNAME:CET
DTSTART:20241027T010000
END:STANDARD
BEGIN:DAYLIGHT
TZOFFSETFROM:+0100
TZOFFSETTO:+0200
TZNAME:CEST
DTSTART:20250330T010000
END:DAYLIGHT
BEGIN:STANDARD
TZOFFSETFROM:+0200
TZOFFSETTO:+0100
TZNAME:CET
DTSTART:20251026T010000
END:STANDARD
BEGIN:DAYLIGHT
TZOFFSETFROM:+0100
TZOFFSETTO:+0200
TZNAME:CEST
DTSTART:20260329T010000
END:DAYLIGHT
BEGIN:STANDARD
TZOFFSETFROM:+0200
TZOFFSETTO:+0100
TZNAME:CET
DTSTART:20261025T010000
END:STANDARD
END:VTIMEZONE
BEGIN:VEVENT
DTSTART;TZID=Europe/Paris:20250426T113000
DTEND;TZID=Europe/Paris:20250426T113000
DTSTAMP:20260425T132114
CREATED:20250422T150243Z
LAST-MODIFIED:20250422T150423Z
UID:25394-1745667000-1745667000@maisonenfance64.fr
SUMMARY:Le marché bio de Billère - Les « mini-conf et conférences » du bio préau - N° 17
DESCRIPTION:🎤 Mini-conférence : « Saumon – Pêche et queue de poissons »\nDans le cadre du marché bio de Billère\, la Maison de l’Enfance accueille une mini-conférence engagée et passionnante autour de la thématique de la pêche au saumon et de la préservation des milieux aquatiques. \n🎙️ Avec Philippe Garcia\, président de l’association Défense des Milieux Aquatiques\, reconnue au niveau national pour son action environnementale. \nAu programme :\n\n\nLa priorité des prélèvements sur la conservation \n\n\nLes « excuses » pour ne pas agir \n\n\nLes cycles de vie du saumon \n\n\nLes services écosystémiques menacés \n\n\nEt surtout… ce que nous dirons à nos petits-enfants 🌍 \n\n\n💚 Un moment à ne pas manquer pour celles et ceux qui s’engagent pour l’environnement ! \n📧 Contact : contact@marche-bio-associatif-billere.fr \n🙂 Bonne humeur et sourire recommandés !
URL:http://maisonenfance64.fr/events/le-marche-bio-de-billere-les-mini-conf-et-conferences-du-bio-preau-n-17/
LOCATION:Maison de l’Enfance de Billère (Entrée par l’école\, à 50 m derrière la halle bio)\, Impasse Nederpeld\, Billère\, 64140
CATEGORIES:Animations locales,Evènements
ORGANIZER;CN="March%C3%A9 Bio de Bill%C3%A8re":MAILTO:contact@marche-bio-associatif-billere.fr
END:VEVENT
END:VCALENDAR