BEGIN:VCALENDAR
VERSION:2.0
PRODID:-//Maison de l&#039;Enfance de Billère - ECPv6.15.20//NONSGML v1.0//EN
CALSCALE:GREGORIAN
METHOD:PUBLISH
X-ORIGINAL-URL:http://maisonenfance64.fr
X-WR-CALDESC:Évènements pour Maison de l&#039;Enfance de Billère
REFRESH-INTERVAL;VALUE=DURATION:PT1H
X-Robots-Tag:noindex
X-PUBLISHED-TTL:PT1H
BEGIN:VTIMEZONE
TZID:Europe/Paris
BEGIN:DAYLIGHT
TZOFFSETFROM:+0100
TZOFFSETTO:+0200
TZNAME:CEST
DTSTART:20230326T010000
END:DAYLIGHT
BEGIN:STANDARD
TZOFFSETFROM:+0200
TZOFFSETTO:+0100
TZNAME:CET
DTSTART:20231029T010000
END:STANDARD
BEGIN:DAYLIGHT
TZOFFSETFROM:+0100
TZOFFSETTO:+0200
TZNAME:CEST
DTSTART:20240331T010000
END:DAYLIGHT
BEGIN:STANDARD
TZOFFSETFROM:+0200
TZOFFSETTO:+0100
TZNAME:CET
DTSTART:20241027T010000
END:STANDARD
BEGIN:DAYLIGHT
TZOFFSETFROM:+0100
TZOFFSETTO:+0200
TZNAME:CEST
DTSTART:20250330T010000
END:DAYLIGHT
BEGIN:STANDARD
TZOFFSETFROM:+0200
TZOFFSETTO:+0100
TZNAME:CET
DTSTART:20251026T010000
END:STANDARD
END:VTIMEZONE
BEGIN:VEVENT
DTSTART;TZID=Europe/Paris:20241210T183000
DTEND;TZID=Europe/Paris:20241210T200000
DTSTAMP:20260425T173725
CREATED:20241201T090642Z
LAST-MODIFIED:20241210T092910Z
UID:24218-1733855400-1733860800@maisonenfance64.fr
SUMMARY:Coin des parents : la charge mentale
DESCRIPTION:📅 Quand ? Mardi 10 décembre 2024\n⏰ À quelle heure ? 18h30\n📍 Où ? La Maison de l’Enfance de Billère \nLe Coin des Parents vous invite à une discussion enrichissante sur la charge mentale\, ce poids invisible qui affecte notre quotidien. Venez partager vos expériences\, poser vos questions et découvrir des outils pour mieux la gérer. \nQue vous soyez parent ou simplement curieux de mieux comprendre ce sujet\, cet espace d’échange est ouvert à toutes et à tous. Une belle opportunité pour se soutenir et avancer ensemble dans une ambiance bienveillante. \nParticipation gratuite. \nNe manquez pas ce moment d’écoute et de partage ! 💬
URL:http://maisonenfance64.fr/events/coin-des-parents-la-charge-mentale/
LOCATION:Maison de l’Enfance de Billère\, Maison de l'Enfance de Billère\, Billères\, 64140\, France
CATEGORIES:Animation,Coin papote
ATTACH;FMTTYPE=image/jpeg:http://maisonenfance64.fr/wp-content/uploads/2024/12/charge-mentale.jpg
ORGANIZER;CN="Virginie Cazenave":MAILTO:virginie.cazenave.mde@gmail.com
END:VEVENT
END:VCALENDAR