BEGIN:VCALENDAR
VERSION:2.0
PRODID:-//Maison de l&#039;Enfance de Billère - ECPv6.15.20//NONSGML v1.0//EN
CALSCALE:GREGORIAN
METHOD:PUBLISH
X-ORIGINAL-URL:http://maisonenfance64.fr
X-WR-CALDESC:Évènements pour Maison de l&#039;Enfance de Billère
REFRESH-INTERVAL;VALUE=DURATION:PT1H
X-Robots-Tag:noindex
X-PUBLISHED-TTL:PT1H
BEGIN:VTIMEZONE
TZID:Europe/Paris
BEGIN:DAYLIGHT
TZOFFSETFROM:+0100
TZOFFSETTO:+0200
TZNAME:CEST
DTSTART:20230326T010000
END:DAYLIGHT
BEGIN:STANDARD
TZOFFSETFROM:+0200
TZOFFSETTO:+0100
TZNAME:CET
DTSTART:20231029T010000
END:STANDARD
BEGIN:DAYLIGHT
TZOFFSETFROM:+0100
TZOFFSETTO:+0200
TZNAME:CEST
DTSTART:20240331T010000
END:DAYLIGHT
BEGIN:STANDARD
TZOFFSETFROM:+0200
TZOFFSETTO:+0100
TZNAME:CET
DTSTART:20241027T010000
END:STANDARD
BEGIN:DAYLIGHT
TZOFFSETFROM:+0100
TZOFFSETTO:+0200
TZNAME:CEST
DTSTART:20250330T010000
END:DAYLIGHT
BEGIN:STANDARD
TZOFFSETFROM:+0200
TZOFFSETTO:+0100
TZNAME:CET
DTSTART:20251026T010000
END:STANDARD
END:VTIMEZONE
BEGIN:VEVENT
DTSTART;TZID=Europe/Paris:20240312T180000
DTEND;TZID=Europe/Paris:20240312T190000
DTSTAMP:20260426T055101
CREATED:20231019T150551Z
LAST-MODIFIED:20240304T161026Z
UID:21346-1710266400-1710270000@maisonenfance64.fr
SUMMARY:Coin papote Mardi 12 mars 2024 : l'éducation dans la joie est-ce possible ?
DESCRIPTION:Venez assistez à coin des parents de ce mardi 12 mars sur la thématique: « L’éducation dans la joie\, est-ce possible ? »\nCette soirée sera animée par Angelica\, une coach en parentalité expérimentée. \nL’éducation des enfants est un défi quotidien pour de nombreux parents\, et trouver le juste équilibre entre autorité et bienveillance peut parfois sembler complexe. Dans cette séance interactive\, nous explorerons ensemble des stratégies et des approches pour cultiver un environnement familial empreint de joie et de positivité\, tout en assurant le développement harmonieux de nos enfants. \nAngelica partagera son expertise et ses conseils pratiques pour aider les parents à créer des relations familiales épanouissantes et à éduquer leurs enfants dans la bienveillance et la compréhension. Nous pourrons aborder également des défis spécifiques rencontrés par les parents et des solutions pour y faire face de manière constructive. \nQue vous soyez parent d’un enfant en bas âge\, d’un adolescent turbulent ou simplement en quête de conseils pour améliorer votre relation avec vos enfants\, cet événement est fait pour vous. Venez partager vos expériences\, poser vos questions et découvrir de nouvelles perspectives sur l’éducation positive. \nPour plus d’informations vous pouvez contacter Virgine au 07 71 15 57 36.
URL:http://maisonenfance64.fr/events/coin-papote-mardi-12-mars-2024/
LOCATION:Maison de l’Enfance de Billère\, Maison de l'Enfance de Billère\, Billères\, 64140\, France
CATEGORIES:Ateliers,Coin papote
ATTACH;FMTTYPE=image/jpeg:http://maisonenfance64.fr/wp-content/uploads/2023/10/horizontal-kid-people-granny-together.jpg
ORGANIZER;CN="Virginie Cazenave":MAILTO:virginie.cazenave.mde@gmail.com
END:VEVENT
END:VCALENDAR