BEGIN:VCALENDAR
VERSION:2.0
PRODID:-//Maison de l&#039;Enfance de Billère - ECPv6.15.20//NONSGML v1.0//EN
CALSCALE:GREGORIAN
METHOD:PUBLISH
X-WR-CALNAME:Maison de l&#039;Enfance de Billère
X-ORIGINAL-URL:http://maisonenfance64.fr
X-WR-CALDESC:Évènements pour Maison de l&#039;Enfance de Billère
REFRESH-INTERVAL;VALUE=DURATION:PT1H
X-Robots-Tag:noindex
X-PUBLISHED-TTL:PT1H
BEGIN:VTIMEZONE
TZID:Europe/Paris
BEGIN:DAYLIGHT
TZOFFSETFROM:+0100
TZOFFSETTO:+0200
TZNAME:CEST
DTSTART:20230326T010000
END:DAYLIGHT
BEGIN:STANDARD
TZOFFSETFROM:+0200
TZOFFSETTO:+0100
TZNAME:CET
DTSTART:20231029T010000
END:STANDARD
BEGIN:DAYLIGHT
TZOFFSETFROM:+0100
TZOFFSETTO:+0200
TZNAME:CEST
DTSTART:20240331T010000
END:DAYLIGHT
BEGIN:STANDARD
TZOFFSETFROM:+0200
TZOFFSETTO:+0100
TZNAME:CET
DTSTART:20241027T010000
END:STANDARD
BEGIN:DAYLIGHT
TZOFFSETFROM:+0100
TZOFFSETTO:+0200
TZNAME:CEST
DTSTART:20250330T010000
END:DAYLIGHT
BEGIN:STANDARD
TZOFFSETFROM:+0200
TZOFFSETTO:+0100
TZNAME:CET
DTSTART:20251026T010000
END:STANDARD
END:VTIMEZONE
BEGIN:VEVENT
DTSTART;TZID=Europe/Paris:20240409T183000
DTEND;TZID=Europe/Paris:20240409T203000
DTSTAMP:20260426T005213
CREATED:20240313T091650Z
LAST-MODIFIED:20240313T091650Z
UID:22433-1712687400-1712694600@maisonenfance64.fr
SUMMARY:Coin des parents : Des limites : Lesquelles ? Pourquoi ?
DESCRIPTION:Moment  incontournable pour les parents en quête de conseils et de soutien dans leur parcours éducatif. Le mardi 09 avril à 18h30\, rejoignez nous pour un coin papote animé par Angelica\, coach en parentalité\, sur le thème : « Des Limites\, Lesquelles? Pourquoi? ». \nDans le tumulte de la vie quotidienne\, élever des enfants peut parfois sembler être une montagne insurmontable à gravir. L’équilibre entre la discipline et la liberté\, les règles et la flexibilité\, est un défi constant pour les parents. C’est là que l’atelier « Des Limites\, Lesquelles? Pourquoi? » entre en jeu\, offrant un espace sûr et bienveillant pour explorer ces questions cruciales. \nAngelica\, une experte chevronnée en parentalité\, guidera les participants à travers une discussion interactive et enrichissante. Avec son approche chaleureuse et empathique\, elle partagera des astuces pratiques et des conseils éprouvés pour définir des limites saines et appropriées pour vos enfants. \nMais pourquoi les limites sont-elles si importantes dans l’éducation de nos enfants? Cette question fondamentale sera au cœur des échanges lors de cet atelier. Les participants auront l’opportunité d’explorer les raisons sous-jacentes de l’établissement des limites et d’identifier comment celles-ci contribuent au développement émotionnel\, social et académique de leurs enfants.
URL:http://maisonenfance64.fr/events/coin-des-parents-des-limites-lesquelles-pourquoi/
LOCATION:Maison de l’Enfance de Billère\, Maison de l'Enfance de Billère\, Billères\, 64140\, France
CATEGORIES:Animation,Coin papote
ATTACH;FMTTYPE=image/jpeg:http://maisonenfance64.fr/wp-content/uploads/2024/03/medium-shot-blurry-woman-holding-post-its_.jpg
ORGANIZER;CN="Virginie Cazenave":MAILTO:virginie.cazenave.mde@gmail.com
END:VEVENT
END:VCALENDAR