BEGIN:VCALENDAR
VERSION:2.0
PRODID:-//Maison de l&#039;Enfance de Billère - ECPv6.15.20//NONSGML v1.0//EN
CALSCALE:GREGORIAN
METHOD:PUBLISH
X-WR-CALNAME:Maison de l&#039;Enfance de Billère
X-ORIGINAL-URL:http://maisonenfance64.fr
X-WR-CALDESC:Évènements pour Maison de l&#039;Enfance de Billère
REFRESH-INTERVAL;VALUE=DURATION:PT1H
X-Robots-Tag:noindex
X-PUBLISHED-TTL:PT1H
BEGIN:VTIMEZONE
TZID:Europe/Paris
BEGIN:DAYLIGHT
TZOFFSETFROM:+0100
TZOFFSETTO:+0200
TZNAME:CEST
DTSTART:20230326T010000
END:DAYLIGHT
BEGIN:STANDARD
TZOFFSETFROM:+0200
TZOFFSETTO:+0100
TZNAME:CET
DTSTART:20231029T010000
END:STANDARD
BEGIN:DAYLIGHT
TZOFFSETFROM:+0100
TZOFFSETTO:+0200
TZNAME:CEST
DTSTART:20240331T010000
END:DAYLIGHT
BEGIN:STANDARD
TZOFFSETFROM:+0200
TZOFFSETTO:+0100
TZNAME:CET
DTSTART:20241027T010000
END:STANDARD
BEGIN:DAYLIGHT
TZOFFSETFROM:+0100
TZOFFSETTO:+0200
TZNAME:CEST
DTSTART:20250330T010000
END:DAYLIGHT
BEGIN:STANDARD
TZOFFSETFROM:+0200
TZOFFSETTO:+0100
TZNAME:CET
DTSTART:20251026T010000
END:STANDARD
END:VTIMEZONE
BEGIN:VEVENT
DTSTART;TZID=Europe/Paris:20240601T093000
DTEND;TZID=Europe/Paris:20240601T123000
DTSTAMP:20260426T014007
CREATED:20240521T090621Z
LAST-MODIFIED:20240521T090621Z
UID:22850-1717234200-1717245000@maisonenfance64.fr
SUMMARY:Les samedis en famille au Jardin de Toni
DESCRIPTION:Venez profiter d’une journée en pleine nature avec un programme riche en activités pour petits et grands. \nProgramme de la journée : \n9h30 : Nourrissage des animaux\n11h00 : Atelier (en fonction du programme\, voir la plaquette)\nVous ne souhaitez pas participer aux ateliers ? Pas de souci ! Vous pouvez vous balader librement dans le jardin et découvrir les merveilles qu’il a à offrir. \nLe Jardin de Toni\, c’est avant tout un espace unique : une ferme\, un potager\, un verger\, et une guinguette. C’est l’endroit idéal pour venir partager\, échanger et se ressourcer en famille ou entre amis. Chaque coin du jardin est conçu pour vous offrir une expérience enrichissante et apaisante\, loin de l’agitation urbaine. \nQue vous soyez passionné de jardinage\, amoureux des animaux\, ou simplement en quête d’un moment de détente\, le Jardin de Toni vous ouvre ses portes pour des samedis inoubliables. \nRejoignez-nous et vivez une journée authentique au cœur de la nature ! \nPour plus d’informations sur le programme des ateliers\, consultez notre plaquette ou contactez-nous directement. \nÀ bientôt au Jardin de Toni !
URL:http://maisonenfance64.fr/events/les-samedis-en-famille-au-jardin-de-toni-2/
LOCATION:Jardin de Toni\, Allée du Lacaou\, Billère\, 64140
CATEGORIES:Jardin de Toni,Les samedis en famille
ATTACH;FMTTYPE=image/jpeg:http://maisonenfance64.fr/wp-content/uploads/2024/05/FLYER-SAMEDIS2024-couv.jpg
ORGANIZER;CN="Sabrina Larrere":MAILTO:sabrina.larrere.mde@gmail.com
END:VEVENT
END:VCALENDAR