BEGIN:VCALENDAR
VERSION:2.0
PRODID:-//Maison de l&#039;Enfance de Billère - ECPv6.15.20//NONSGML v1.0//EN
CALSCALE:GREGORIAN
METHOD:PUBLISH
X-ORIGINAL-URL:https://maisonenfance64.fr
X-WR-CALDESC:Évènements pour Maison de l&#039;Enfance de Billère
REFRESH-INTERVAL;VALUE=DURATION:PT1H
X-Robots-Tag:noindex
X-PUBLISHED-TTL:PT1H
BEGIN:VTIMEZONE
TZID:Europe/Paris
BEGIN:DAYLIGHT
TZOFFSETFROM:+0100
TZOFFSETTO:+0200
TZNAME:CEST
DTSTART:20250330T010000
END:DAYLIGHT
BEGIN:STANDARD
TZOFFSETFROM:+0200
TZOFFSETTO:+0100
TZNAME:CET
DTSTART:20251026T010000
END:STANDARD
BEGIN:DAYLIGHT
TZOFFSETFROM:+0100
TZOFFSETTO:+0200
TZNAME:CEST
DTSTART:20260329T010000
END:DAYLIGHT
BEGIN:STANDARD
TZOFFSETFROM:+0200
TZOFFSETTO:+0100
TZNAME:CET
DTSTART:20261025T010000
END:STANDARD
BEGIN:DAYLIGHT
TZOFFSETFROM:+0100
TZOFFSETTO:+0200
TZNAME:CEST
DTSTART:20270328T010000
END:DAYLIGHT
BEGIN:STANDARD
TZOFFSETFROM:+0200
TZOFFSETTO:+0100
TZNAME:CET
DTSTART:20271031T010000
END:STANDARD
END:VTIMEZONE
BEGIN:VEVENT
DTSTART;TZID=Europe/Paris:20260310T193000
DTEND;TZID=Europe/Paris:20260310T203000
DTSTAMP:20260424T111908
CREATED:20260105T133920Z
LAST-MODIFIED:20260105T133944Z
UID:26923-1773171000-1773174600@maisonenfance64.fr
SUMMARY:Spectacle en Famille : Dominique toute seule
DESCRIPTION:La Maison de l’Enfance de Billère vous invite à découvrir le spectacle Dominique toute seule \nCe spectacle est conçu pour un public familial\, à partir de 7 ans. \nRésumé de la thématique :\n« Les Séparables » raconte l’histoire de Sabah et Romain\, deux jeunes aux univers très différents. Sabah vient d’une famille nombreuse\, pleine de vie\, de traditions (on mange des makrouts\, on parle beaucoup…)\, et elle rêve d’aventures lointaines (elle s’imagine Sioux des Dakotas\, chasser le Grand Bison Blanc). Romain\, lui\, est plus isolé ; ses parents s’aiment peut-être un peu trop\, et il ne trouve pas sa place. Quand Sabah entre dans sa vie\, elle bouleverse tout : elle apporte une tornade de couleurs\, d’émotions et de possibles. Mais cette relation se confronte aux peurs des adultes – la peur de l’autre\, de la différence\, du « pas comme nous » – et donc l’idée que l’amour devient interdit. \nIl peut toucher autant les enfants (pré-ados) que les adultes\, car il aborde des thèmes universels (l’amour\, la différence\, la peur du jugement)\, mais avec une écriture inventive et des éléments visuels / émotionnels qui séduisent un public jeune. \n Date : Mardi 10 mars  2026\n Heure : 19h30 – Rendez-vous à 19h à la Maison de l’Enfance de Billère ou 19h15 devant le Théâtre Saint-Louis\n Lieu : Théâtre Saint-Louis\, 1 Rue Saint-Louis\, 64000 Pau \nAttention\, les places sont limitées ! \nPour plus d’informations ou pour réserver\, contactez :\n Virginie : 07 71 15 57 36 \nNe manquez pas cette belle opportunité de partager un moment culturel unique en famille !
URL:https://maisonenfance64.fr/events/spectacle-en-famille-dominique-toute-seule/
LOCATION:Théâtre Saint Louis de Pau\, 1 rue Saint-Louis\, pau\, 64000\, France
CATEGORIES:Animation,Spectacle en famille
ATTACH;FMTTYPE=image/jpeg:https://maisonenfance64.fr/wp-content/uploads/2026/01/Dominique-toute-seule-C-Nadine-Kryzanski_0.jpg
ORGANIZER;CN="Virginie Cazenave":MAILTO:virginie.cazenave.mde@gmail.com
END:VEVENT
BEGIN:VEVENT
DTSTART;TZID=Europe/Paris:20260317T183000
DTEND;TZID=Europe/Paris:20260317T193000
DTSTAMP:20260424T111908
CREATED:20260316T085017Z
LAST-MODIFIED:20260316T090836Z
UID:27327-1773772200-1773775800@maisonenfance64.fr
SUMMARY:Coin des parents - Déconstruire les violences éducatives ordinaires : Sortir des automatismes hérités
DESCRIPTION:Coin Ressourcerie à la Maison de l’Enfance de Billère \nLa Maison de l’Enfance de Billère vous invite à participer à un nouveau temps d’échange dans le cadre du Coin Ressourcerie\, un espace convivial dédié aux parents pour réfléchir\, partager et trouver des ressources autour de la parentalité. \n📅 Rendez-vous mardi 17 mars à 18h30 \nPour cette rencontre\, nous aborderons une thématique essentielle :\n« Déconstruire les violences éducatives ordinaires (VEO) : sortir des automatismes hérités ». \nAu fil des générations\, certaines pratiques éducatives se transmettent presque automatiquement\, parfois sans que l’on prenne le temps de les questionner. Pourtant\, de plus en plus de parents souhaitent aujourd’hui comprendre ces mécanismes et trouver d’autres façons d’accompagner leurs enfants\, dans le respect et la bienveillance. \nCe temps d’échange sera animé par Angelica\, coach en parentalité\, qui accompagnera les participants dans une réflexion autour des habitudes éducatives\, des alternatives possibles et des outils pour construire une relation parent-enfant plus apaisée. \n💬 Un moment pour : \n\n\néchanger librement entre parents\, \n\n\nprendre du recul sur certaines pratiques éducatives\, \n\n\ndécouvrir des pistes concrètes pour sortir des automatismes hérités\, \n\n\nrepartir avec des ressources et des idées à expérimenter au quotidien. \n\n\n👶 Parents bienvenus avec leurs enfants !\nUne animatrice sera présente pour accueillir et accompagner les enfants pendant la rencontre afin que chacun puisse profiter pleinement de ce moment. \nNous vous attendons nombreux pour ce temps de partage chaleureux et enrichissant. \n✨ Entrée libre – ouvert à tous les parents \n📍 Lieu : Maison de l’Enfance de Billère\n🕡 Horaire : 18h30
URL:https://maisonenfance64.fr/events/coin-des-parents-deconstruire-les-violences-educatives-ordinaires-sortir-des-automatismes-herites/
LOCATION:Maison de l’Enfance de Billère\, Maison de l'Enfance de Billère\, Billères\, 64140\, France
CATEGORIES:Animation,Coin papote
ATTACH;FMTTYPE=image/png:https://maisonenfance64.fr/wp-content/uploads/2026/03/Capture-decran-2026-03-16-094732.png
ORGANIZER;CN="Virginie Cazenave":MAILTO:virginie.cazenave.mde@gmail.com
END:VEVENT
END:VCALENDAR