BEGIN:VCALENDAR
VERSION:2.0
PRODID:-//Maison de l&#039;Enfance de Billère - ECPv6.15.20//NONSGML v1.0//EN
CALSCALE:GREGORIAN
METHOD:PUBLISH
X-WR-CALNAME:Maison de l&#039;Enfance de Billère
X-ORIGINAL-URL:https://maisonenfance64.fr
X-WR-CALDESC:Évènements pour Maison de l&#039;Enfance de Billère
REFRESH-INTERVAL;VALUE=DURATION:PT1H
X-Robots-Tag:noindex
X-PUBLISHED-TTL:PT1H
BEGIN:VTIMEZONE
TZID:Europe/Paris
BEGIN:DAYLIGHT
TZOFFSETFROM:+0100
TZOFFSETTO:+0200
TZNAME:CEST
DTSTART:20230326T010000
END:DAYLIGHT
BEGIN:STANDARD
TZOFFSETFROM:+0200
TZOFFSETTO:+0100
TZNAME:CET
DTSTART:20231029T010000
END:STANDARD
BEGIN:DAYLIGHT
TZOFFSETFROM:+0100
TZOFFSETTO:+0200
TZNAME:CEST
DTSTART:20240331T010000
END:DAYLIGHT
BEGIN:STANDARD
TZOFFSETFROM:+0200
TZOFFSETTO:+0100
TZNAME:CET
DTSTART:20241027T010000
END:STANDARD
BEGIN:DAYLIGHT
TZOFFSETFROM:+0100
TZOFFSETTO:+0200
TZNAME:CEST
DTSTART:20250330T010000
END:DAYLIGHT
BEGIN:STANDARD
TZOFFSETFROM:+0200
TZOFFSETTO:+0100
TZNAME:CET
DTSTART:20251026T010000
END:STANDARD
END:VTIMEZONE
BEGIN:VEVENT
DTSTART;TZID=Europe/Paris:20240504T103000
DTEND;TZID=Europe/Paris:20240504T163000
DTSTAMP:20260426T003040
CREATED:20240502T123257Z
LAST-MODIFIED:20240502T123257Z
UID:22780-1714818600-1714840200@maisonenfance64.fr
SUMMARY:Rencontres culturelles et artistiques
DESCRIPTION:Jusqu’au 4 mai 2024\, le centre d’animation municipal Le Lacaoü organise des rencontres culturelles et artistiques intergénérationnelles. Des ateliers mixtes enfants et séniors seront proposés sur les thèmes de la danse\, de la mémoire\, de l’expression artistique et de la sculpture végétale.
URL:https://maisonenfance64.fr/events/rencontres-culturelles-et-artistiques/
LOCATION:Centre d’animation le Lacaoü\, 41 bis avenue Lalanne\, Billères\, 64140\, France
CATEGORIES:Animations locales
ATTACH;FMTTYPE=image/jpeg:https://maisonenfance64.fr/wp-content/uploads/2024/05/Programme-Rencontres-4-mai-2024-1.jpg
END:VEVENT
BEGIN:VEVENT
DTSTART;TZID=Europe/Paris:20240525T113000
DTEND;TZID=Europe/Paris:20240525T123000
DTSTAMP:20260426T003040
CREATED:20240514T082245Z
LAST-MODIFIED:20240514T082333Z
UID:22797-1716636600-1716640200@maisonenfance64.fr
SUMMARY:Mini conf marché bio : Enquête glyphosate\, Un sport de combat
DESCRIPTION:Le samedi 25 mai 2024 à 11h30\, le Marché Bio de Billère invite à une mini-conférence à la Maison de l’Enfance. Sous le titre accrocheur « Enquête glyphosate\, Un sport de combat »\, cet mini-conférence explorera les implications de la recherche citoyenne dans la lutte contre les pesticides. \nAnimée par Christian Paroissin\, Maître de Conférences en Mathématiques à l’UPPA et membre du groupe scientifique Campagne Glyphosate France. La conférence examinera de près le rôle des « lobbies » dans la propagation du doute. Cette rencontre offre une occasion précieuse de sensibilisation et de débat sur des enjeux cruciaux pour la santé et l’environnement. \n  \n 
URL:https://maisonenfance64.fr/events/mini-conf-marche-bio-enquete-glyphosate-un-sport-de-combat/
LOCATION:Maison de l’Enfance de Billère\, Maison de l'Enfance de Billère\, Billères\, 64140\, France
CATEGORIES:Animations locales
ATTACH;FMTTYPE=image/jpeg:https://maisonenfance64.fr/wp-content/uploads/2024/05/mini-confAffiche-2024-05-25.jpg
ORGANIZER;CN="March%C3%A9 Bio de Bill%C3%A8re":MAILTO:contact@marche-bio-associatif-billere.fr
END:VEVENT
BEGIN:VEVENT
DTSTART;TZID=Europe/Paris:20240525T170000
DTEND;TZID=Europe/Paris:20240525T230000
DTSTAMP:20260426T003040
CREATED:20240522T075938Z
LAST-MODIFIED:20240522T081321Z
UID:22869-1716656400-1716678000@maisonenfance64.fr
SUMMARY:Marché nocturne aux Halles de Billère
DESCRIPTION:Le 25 mai 2024 de 17h à 23h Les halles de Billère vous donnent rendez-vous pour un marché nocturne. \nPlus de 40 exposants\, des animations musicales.\nBuvette et restauration sur place. \nEntrée gratuite \nLa Halle De Billère\, Route de Bayonne\, Billère\, France
URL:https://maisonenfance64.fr/events/marche-nocturne-aux-halles-de-billere/
LOCATION:La Halle De Billère\, Route de Bayonne\, Billère\, 64140\, France
CATEGORIES:Animations locales
ATTACH;FMTTYPE=image/png:https://maisonenfance64.fr/wp-content/uploads/2024/05/image.png
END:VEVENT
END:VCALENDAR