BEGIN:VCALENDAR
VERSION:2.0
PRODID:-//Maison de l&#039;Enfance de Billère - ECPv6.15.20//NONSGML v1.0//EN
CALSCALE:GREGORIAN
METHOD:PUBLISH
X-ORIGINAL-URL:https://maisonenfance64.fr
X-WR-CALDESC:Évènements pour Maison de l&#039;Enfance de Billère
REFRESH-INTERVAL;VALUE=DURATION:PT1H
X-Robots-Tag:noindex
X-PUBLISHED-TTL:PT1H
BEGIN:VTIMEZONE
TZID:Europe/Paris
BEGIN:DAYLIGHT
TZOFFSETFROM:+0100
TZOFFSETTO:+0200
TZNAME:CEST
DTSTART:20240331T010000
END:DAYLIGHT
BEGIN:STANDARD
TZOFFSETFROM:+0200
TZOFFSETTO:+0100
TZNAME:CET
DTSTART:20241027T010000
END:STANDARD
BEGIN:DAYLIGHT
TZOFFSETFROM:+0100
TZOFFSETTO:+0200
TZNAME:CEST
DTSTART:20250330T010000
END:DAYLIGHT
BEGIN:STANDARD
TZOFFSETFROM:+0200
TZOFFSETTO:+0100
TZNAME:CET
DTSTART:20251026T010000
END:STANDARD
BEGIN:DAYLIGHT
TZOFFSETFROM:+0100
TZOFFSETTO:+0200
TZNAME:CEST
DTSTART:20260329T010000
END:DAYLIGHT
BEGIN:STANDARD
TZOFFSETFROM:+0200
TZOFFSETTO:+0100
TZNAME:CET
DTSTART:20261025T010000
END:STANDARD
END:VTIMEZONE
BEGIN:VEVENT
DTSTART;TZID=Europe/Paris:20251011T100000
DTEND;TZID=Europe/Paris:20251011T120000
DTSTAMP:20260424T222737
CREATED:20251001T122856Z
LAST-MODIFIED:20251001T123448Z
UID:25861-1760176800-1760184000@maisonenfance64.fr
SUMMARY:#1 : J'aime mon A'SOS - Mobilisation pour tous et par tous ! Samedi 11 octobre 2025 – 10h – Halles de Pau
DESCRIPTION:Un temps fort de mobilisation\, ouvert à tous : associations\, citoyen(ne)s\, adhérent(e)s\, familles\, bénévoles\, salarié·es\, élu·es\, partenaires… \n  \nPour en savoir+\, c’est par ici !
URL:https://maisonenfance64.fr/events/1-jaime-mon-asos-mobilisation-pour-tous-et-par-tous-samedi-11-octobre-2025-10h-halles-de-pau/
LOCATION:Halles de Pau\, 8 Rue Carnot\, PAU\, 64000\, France
CATEGORIES:Animations locales,Information générale
ATTACH;FMTTYPE=image/jpeg:https://maisonenfance64.fr/wp-content/uploads/2025/10/SLIDER-scaled.jpg
END:VEVENT
END:VCALENDAR