BEGIN:VCALENDAR
VERSION:2.0
PRODID:-//Maison de l&#039;Enfance de Billère - ECPv6.15.20//NONSGML v1.0//EN
CALSCALE:GREGORIAN
METHOD:PUBLISH
X-ORIGINAL-URL:https://maisonenfance64.fr
X-WR-CALDESC:Évènements pour Maison de l&#039;Enfance de Billère
REFRESH-INTERVAL;VALUE=DURATION:PT1H
X-Robots-Tag:noindex
X-PUBLISHED-TTL:PT1H
BEGIN:VTIMEZONE
TZID:Europe/Paris
BEGIN:DAYLIGHT
TZOFFSETFROM:+0100
TZOFFSETTO:+0200
TZNAME:CEST
DTSTART:20230326T010000
END:DAYLIGHT
BEGIN:STANDARD
TZOFFSETFROM:+0200
TZOFFSETTO:+0100
TZNAME:CET
DTSTART:20231029T010000
END:STANDARD
BEGIN:DAYLIGHT
TZOFFSETFROM:+0100
TZOFFSETTO:+0200
TZNAME:CEST
DTSTART:20240331T010000
END:DAYLIGHT
BEGIN:STANDARD
TZOFFSETFROM:+0200
TZOFFSETTO:+0100
TZNAME:CET
DTSTART:20241027T010000
END:STANDARD
BEGIN:DAYLIGHT
TZOFFSETFROM:+0100
TZOFFSETTO:+0200
TZNAME:CEST
DTSTART:20250330T010000
END:DAYLIGHT
BEGIN:STANDARD
TZOFFSETFROM:+0200
TZOFFSETTO:+0100
TZNAME:CET
DTSTART:20251026T010000
END:STANDARD
END:VTIMEZONE
BEGIN:VEVENT
DTSTART;TZID=Europe/Paris:20241203T183000
DTEND;TZID=Europe/Paris:20241203T203000
DTSTAMP:20260425T163916
CREATED:20241118T155323Z
LAST-MODIFIED:20241118T161659Z
UID:24057-1733250600-1733257800@maisonenfance64.fr
SUMMARY:Atelier en famille mardi 03 décembre : créez votre pochette de Noël !
DESCRIPTION:Vous cherchez une activité créative et conviviale à partager en famille ? Rejoignez-nous le mardi 3 décembre à partir de 18h30 pour un atelier couture spécial Noël ! \nQue vous soyez débutant ou couturier expérimenté\, cet atelier est l’occasion parfaite d’apprendre à confectionner une jolie pochette de Noël. Ce moment de création sera guidé et adapté à tous les niveaux\, pour que chacun reparte avec une réalisation unique et festive. \nPour rendre cet atelier encore plus personnalisé\, n’hésitez pas à apporter vos propres tissus aux motifs de Noël. Les partager pourrait même inspirer d’autres participants ! \nRéservez vite votre place et venez plonger dans l’esprit des fêtes tout en découvrant ou perfectionnant vos talents de couturier. 🎄🧵
URL:https://maisonenfance64.fr/events/atelier-en-famille-mardi-03-decembre-creez-votre-pochette-de-noel/
LOCATION:Maison de l’Enfance de Billère\, Maison de l'Enfance de Billère\, Billères\, 64140\, France
CATEGORIES:Animation,Atelier en Famille
ATTACH;FMTTYPE=image/jpeg:https://maisonenfance64.fr/wp-content/uploads/2024/11/sewing-tools-atelier-couture.jpg
ORGANIZER;CN="Virginie Cazenave":MAILTO:virginie.cazenave.mde@gmail.com
END:VEVENT
BEGIN:VEVENT
DTSTART;TZID=Europe/Paris:20241217T183000
DTEND;TZID=Europe/Paris:20241217T193000
DTSTAMP:20260425T163916
CREATED:20241212T092837Z
LAST-MODIFIED:20241212T102631Z
UID:24225-1734460200-1734463800@maisonenfance64.fr
SUMMARY:Fabriquez votre boule de Noël patchwork !
DESCRIPTION:La magie de Noël approche à grands pas\, et quoi de mieux que de la créer vous-même en famille ? La Maison de l’Enfance de Billère est ravie de vous inviter à un atelier convivial et créatif : la fabrication de boules de Noël en patchwork. \n🎄 Quand et où ? \nDate : Mardi 17 décembre 2024 \nHeure : à partir de 18h30 \nLieu : La Maison de l’Enfance\, Billère \n🔖 Pour qui ?\nCet atelier est ouvert à toutes les familles ! Que vous soyez petit ou grand\, débutant ou expert en travaux manuels\, cet atelier est conçu pour que chacun puisse s’amuser et participer. \n🎨 Qu’allons-nous faire ?\nVous apprendrez à créer de magnifiques boules de Noël en patchwork\, un mélange d’élégance et de personnalisation. Pas besoin de couture ! Cette technique utilise du tissu et de la mousse pour des résultats bluffants et accessibles à tous. \nNous avons hâte de partager cet atelier avec vous et de réaliser ensemble des décorations qui illumineront votre Noël. \n🎄 À très bientôt à la Maison de l’Enfance de Billère !
URL:https://maisonenfance64.fr/events/fabriquez-votre-boule-de-noel-patchwork/
LOCATION:Maison de l’Enfance de Billère\, Maison de l'Enfance de Billère\, Billères\, 64140\, France
CATEGORIES:Ateliers,Ateliers parent-enfant
ATTACH;FMTTYPE=image/jpeg:https://maisonenfance64.fr/wp-content/uploads/2024/12/boule-noel-patchword0.jpg
ORGANIZER;CN="Virginie Cazenave":MAILTO:virginie.cazenave.mde@gmail.com
END:VEVENT
BEGIN:VEVENT
DTSTART;TZID=Europe/Paris:20241219T183000
DTEND;TZID=Europe/Paris:20241219T193000
DTSTAMP:20260425T163916
CREATED:20241212T102525Z
LAST-MODIFIED:20241212T144838Z
UID:24233-1734633000-1734636600@maisonenfance64.fr
SUMMARY:Atelier cuisine de noël : fabrication de gourmandises de noël
DESCRIPTION:Plus que quelques jours avant noël !!!! Quoi de mieux que de préparer de délicieuses gourmandises en famille ? La Maison de l’Enfance de Billère vous invite à un atelier culinaire spécial gourmandises de noël. \n🎄 Quand et où ? \nDate : Jeudi 19 décembre 2024 \nHeure : à partir de 18h30 \nLieu : La Maison de l’Enfance\, Billère \n🔖 Pour qui ?\nCet atelier est ouvert à toutes les familles ! Que vous soyez petit ou grand\, débutant ou passionné de cuisine\, cet atelier est conçu pour que chacun puisse s’amuser et participer. \n🎨 Qu’est ce qu’on cuisine ? \nDes bricks aux amandes : Une friandise croustillante et savoureuse\, parfaite pour les fêtes. \nDes sapins de Noël feuilletés : Une recette aussi jolie que délicieuse\, à partager avec vos proches. \nUn atelier gratuit : Tout est pris en charge\, il vous suffit d’apporter votre enthousiasme ! \n📢 Plus d’informations ? Comment s’inscrire ? Pour participer\, rien de plus simple : \n\nRendez-vous mardi sur place à 18h30\nContactez Virginie par téléphone pour plus d’informations au 07 71 15 57 36\nOu envoyez un e-mail à accueil.maisonenfance64@gmail.com\n\nRejoignez-nous pour un moment festif\, gourmand et familial. \n🎄 À très bientôt à la Maison de l’Enfance de Billère !
URL:https://maisonenfance64.fr/events/atelier-cuisine-de-noel-fabrication-de-gourmandises-de-noel/
CATEGORIES:Animation,Atelier en Famille
ATTACH;FMTTYPE=image/jpeg:https://maisonenfance64.fr/wp-content/uploads/2024/12/cuisine-de-noel-minitaure.jpg
END:VEVENT
END:VCALENDAR