BEGIN:VCALENDAR
VERSION:2.0
PRODID:-//Maison de l&#039;Enfance de Billère - ECPv6.15.20//NONSGML v1.0//EN
CALSCALE:GREGORIAN
METHOD:PUBLISH
X-WR-CALNAME:Maison de l&#039;Enfance de Billère
X-ORIGINAL-URL:https://maisonenfance64.fr
X-WR-CALDESC:Évènements pour Maison de l&#039;Enfance de Billère
REFRESH-INTERVAL;VALUE=DURATION:PT1H
X-Robots-Tag:noindex
X-PUBLISHED-TTL:PT1H
BEGIN:VTIMEZONE
TZID:Europe/Paris
BEGIN:DAYLIGHT
TZOFFSETFROM:+0100
TZOFFSETTO:+0200
TZNAME:CEST
DTSTART:20230326T010000
END:DAYLIGHT
BEGIN:STANDARD
TZOFFSETFROM:+0200
TZOFFSETTO:+0100
TZNAME:CET
DTSTART:20231029T010000
END:STANDARD
BEGIN:DAYLIGHT
TZOFFSETFROM:+0100
TZOFFSETTO:+0200
TZNAME:CEST
DTSTART:20240331T010000
END:DAYLIGHT
BEGIN:STANDARD
TZOFFSETFROM:+0200
TZOFFSETTO:+0100
TZNAME:CET
DTSTART:20241027T010000
END:STANDARD
BEGIN:DAYLIGHT
TZOFFSETFROM:+0100
TZOFFSETTO:+0200
TZNAME:CEST
DTSTART:20250330T010000
END:DAYLIGHT
BEGIN:STANDARD
TZOFFSETFROM:+0200
TZOFFSETTO:+0100
TZNAME:CET
DTSTART:20251026T010000
END:STANDARD
END:VTIMEZONE
BEGIN:VEVENT
DTSTART;TZID=Europe/Paris:20241207T170000
DTEND;TZID=Europe/Paris:20241207T220000
DTSTAMP:20260425T162611
CREATED:20241206T111450Z
LAST-MODIFIED:20241206T111450Z
UID:24192-1733590800-1733608800@maisonenfance64.fr
SUMMARY:🎄 Marché artisanal et animations gratuites 🎄
DESCRIPTION:Quand ? Samedi 7 décembre\, de 17h à 22h\nOù ? Halle de Billère et Villa des Violettes\, place Gisèle Halimi \nUn programme riche en animations pour petits et grands : \n\n17h : Ouverture du marché artisanal.\n17h-22h : Animations musicales et jeux gonflables.\n17h-17h45 : Goûter offert aux enfants par la ville… et une surprise avec le Père Noël 🎅 (chut\, c’est un secret !).\n17h-18h45 : Ateliers créatifs pour les enfants de 3 à 8 ans :\n\nMains et bonnets de lutins\nBoules de Noël\nPochettes et lampes magiques\nPochettes sensorielles\n\n\n18h45 : Spectacle de feu époustouflant pour illuminer la soirée.\n22h : Clôture du marché.\n\n🍴 Restauration sur place pour satisfaire les papilles.
URL:https://maisonenfance64.fr/events/%f0%9f%8e%84-marche-artisanal-et-animations-gratuites-%f0%9f%8e%84/
ATTACH;FMTTYPE=image/webp:https://maisonenfance64.fr/wp-content/uploads/2024/12/imageweb_marche-dhiver-1536x884-1.webp
END:VEVENT
END:VCALENDAR